BEGIN:VCALENDAR
VERSION:2.0
PRODID:-//Tukios.com/
BEGIN:VEVENT
UID:b89af3a3-6bb0-4310-b7ab-f9afdb39dddd@www.ofheupora.com
DTSTAMP:20260426T003754Z
DTSTART:20260429T150000Z
DTEND:20260429T160000Z
SUMMARY:Visitation
DESCRIPTION:
URL:https://www.ofheupora.com/obituaries/charles-charlie-ward-jr
LOCATION: 434 West Fox Avenue  Eupora MS 39744
GEO:33.5418308;-89.2709127
END:VEVENT
END:VCALENDAR