BEGIN:VCALENDAR
VERSION:2.0
PRODID:-//Tukios.com/
BEGIN:VEVENT
UID:6bed9445-8a55-47ec-bc13-639eb6fbc4cc@www.ofheupora.com
DTSTAMP:20260426T003606Z
DTSTART:20260429T160000Z
DTEND:20260429T170000Z
SUMMARY:Funeral Service
DESCRIPTION:Interment will follow at Eupora City Cemetery in Eupora, 
	Mississippi. The Graveside/Committal Services will all be held at Eupora 
	Methodist Church instead of Eupora City Cemetery.
URL:https://www.ofheupora.com/obituaries/charles-charlie-ward-jr
LOCATION: 434 West Fox Avenue  Eupora MS 39744
GEO:33.5418308;-89.2709127
END:VEVENT
END:VCALENDAR